BEGIN:VCALENDAR
VERSION:2.0
PRODID:-//Ohio City - ECPv6.15.20//NONSGML v1.0//EN
CALSCALE:GREGORIAN
METHOD:PUBLISH
X-WR-CALNAME:Ohio City
X-ORIGINAL-URL:https://www.ohiocity.org
X-WR-CALDESC:Events for Ohio City
REFRESH-INTERVAL;VALUE=DURATION:PT1H
X-Robots-Tag:noindex
X-PUBLISHED-TTL:PT1H
BEGIN:VTIMEZONE
TZID:UTC
BEGIN:STANDARD
TZOFFSETFROM:+0000
TZOFFSETTO:+0000
TZNAME:UTC
DTSTART:20240101T000000
END:STANDARD
END:VTIMEZONE
BEGIN:VEVENT
DTSTART;TZID=UTC:20250311T180000
DTEND;TZID=UTC:20250311T190000
DTSTAMP:20260424T134644
CREATED:20241115T211931Z
LAST-MODIFIED:20241115T213516Z
UID:10000756-1741716000-1741719600@www.ohiocity.org
SUMMARY:Ohio City + Tremont Better Streets Committee Meeting
DESCRIPTION:The Ohio City + Tremont Better Streets Committee is an advocacy group for community members passionate about improving the infrastructure in their neighborhoods. The Committee supports and empowers Clevelanders to improve the safety\, comfort\, and accessibility of street infrastructure and active transportation at a hyper-local scale. These groups are a partnership between Bike Cleveland\, Tremont West Development Corporation and Ohio City Inc.
URL:https://www.ohiocity.org/events/ohio-city-tremont-better-streets-committee-meeting/2025-03-11/
LOCATION:3000 Bridge Aveue\, 3000 Bridge Aveue\, Cleveland\, OH\, 44113\, United States
CATEGORIES:Community Meeting/Forum
ATTACH;FMTTYPE=image/jpeg:https://www.ohiocity.org/wp-content/uploads/2024/11/OCI-11-of-25.jpg
END:VEVENT
END:VCALENDAR