BEGIN:VCALENDAR
VERSION:2.0
PRODID:-//Ohio City - ECPv6.15.20//NONSGML v1.0//EN
CALSCALE:GREGORIAN
METHOD:PUBLISH
X-ORIGINAL-URL:https://www.ohiocity.org
X-WR-CALDESC:Events for Ohio City
REFRESH-INTERVAL;VALUE=DURATION:PT1H
X-Robots-Tag:noindex
X-PUBLISHED-TTL:PT1H
BEGIN:VTIMEZONE
TZID:UTC
BEGIN:STANDARD
TZOFFSETFROM:+0000
TZOFFSETTO:+0000
TZNAME:UTC
DTSTART:20240101T000000
END:STANDARD
END:VTIMEZONE
BEGIN:VEVENT
DTSTART;TZID=UTC:20250709T190000
DTEND;TZID=UTC:20250709T200000
DTSTAMP:20260421T104210
CREATED:20250204T172241Z
LAST-MODIFIED:20250204T172241Z
UID:10000903-1752087600-1752091200@www.ohiocity.org
SUMMARY:Bridge/Carrol/Jay Block Club Meeting
DESCRIPTION:Monthly Bridge/Carrol/Jay Block Club meeting. Takes place the second Wednesday of each month from 7pm to 8pm at the Wine Bar on Market Ave. For more information on the neighborhood or how to get involved\, please signup for the Block Club’s emailer by clicking here
URL:https://www.ohiocity.org/events/bridge-carrol-jay-block-club-meeting/2025-07-09/
LOCATION:wine bar\, 2521 Market Ave\, Cleveland\, OH\, 44113\, United States
END:VEVENT
BEGIN:VEVENT
DTSTART;TZID=UTC:20250709T193000
DTEND;TZID=UTC:20250709T210000
DTSTAMP:20260421T104210
CREATED:20250625T154537Z
LAST-MODIFIED:20250625T154537Z
UID:10000961-1752089400-1752094800@www.ohiocity.org
SUMMARY:City Stages 2025
DESCRIPTION:City Stages\, the Cleveland Museum of Art’s acclaimed free outdoor summer concert series featuring the best in global music\, returns to Hingetown with two dynamic performances in July 2025. \n  \nMove and groove at City Stages\, the CMA’s famous block parties that take place in front of Transformer Station and feature the best in global music. This year\, the series occurs on two Wednesdays: July 9 and July 23. Each performance begins at 7:30 p.m. \nArrive early and grab dinner and a drink at one of Ohio City’s bars or restaurants\, or visit one of the local shops. Hang out in the Transformer Station beer garden provided by Market Garden Brewery and enjoy tacos from the Puente’s Tijuana Tacos food truck. \nSeating is limited—bring camp chairs and delight in an evening of music and dancing in the street. \nFree parking is available in the Lutheran Hospital lot located at West 28th Street and Franklin Boulevard. \nTransformer Station is located at 1460 West 29th Street (at the corner of Church Avenue)\, Cleveland\, OH 44113. Transformer Station remains open until 9:00 p.m. during City Stages. \nCity Stages Schedule \nWednesday\, July 9\, 7:30 p.m. \nYeison Landero (Colombia) \nLatin Grammy–nominated musician Yeison Landero was born in San Jacinto (Bolívar) in the very heart of the Montes de María region of the Colombian Caribbean. He carries in his soul a cumbiambero heart inherited from his grandfather Andrés Landero: a musician recognized as the king of cumbia nationally and internationally. Yeison blends the rich\, folkloric sounds of the accordion with propulsive rhythms\, delivering a soulful homage to his family’s cumbia legacy while infusing it with new energy for the 21st century. \nWednesday\, July 23\, 7:30 p.m. \nLas Karamba (Spain) \nFounded in the midst of the bustling streets of Barcelona\, Las Karamba consists of six women musicians who are mestizas and migrants from Venezuela\, Cuba\, Catalonia\, France\, and Argentina. Together\, they create new\, timeless\, danceable music that includes traditional styles—including son\, cha-cha-cha\, salsa\, and timba—influenced by rap and urban music\, as well as a touch of samba and rumba. With the band’s formation\, six life stories converged\, each individually shaped by migration and musical heritage.
URL:https://www.ohiocity.org/events/city-stages-2025/2025-07-09/
LOCATION:Transformer Station\, 1460 W 29th St\, Cleveland\, OH\, 44113\, United States
END:VEVENT
END:VCALENDAR