BEGIN:VCALENDAR
VERSION:2.0
PRODID:-//Ohio City - ECPv6.15.20//NONSGML v1.0//EN
CALSCALE:GREGORIAN
METHOD:PUBLISH
X-WR-CALNAME:Ohio City
X-ORIGINAL-URL:https://www.ohiocity.org
X-WR-CALDESC:Events for Ohio City
REFRESH-INTERVAL;VALUE=DURATION:PT1H
X-Robots-Tag:noindex
X-PUBLISHED-TTL:PT1H
BEGIN:VTIMEZONE
TZID:UTC
BEGIN:STANDARD
TZOFFSETFROM:+0000
TZOFFSETTO:+0000
TZNAME:UTC
DTSTART:20240101T000000
END:STANDARD
END:VTIMEZONE
BEGIN:VEVENT
DTSTART;TZID=UTC:20250725T170000
DTEND;TZID=UTC:20250725T210000
DTSTAMP:20260421T155015
CREATED:20250725T135440Z
LAST-MODIFIED:20250725T135441Z
UID:10000963-1753462800-1753477200@www.ohiocity.org
SUMMARY:Ohio City Food Truck Festival
DESCRIPTION:Get ready for two fun days at Frank Novak Park this July! A Food Truck Festival is headed to the neighborhood! There’ll be dozens of food trucks\, a pop-up market by Cleveland Bazaar\, and live entertainment. This is a pet and family-friendly event that is free to attend.🍔 \nWe’re excited to be partnering with Happy Camper Bar Car and Cleveland Bazaar for this one. This is a two-day event on July 25th from 5 pm-9 pm and July 26th from 12 pm- 8pm. The event will be located at 1900 W 38th St\, Cleveland\, OH 44113\, also known as “Frank Novak Park\,” located next to the Cleveland Public Library’s Carnegie West Branch \nVendor note: If you’re interested in participating\, reach out directly to matt@happycamperbarcar.com. Anyone else offering you a spot is a scam.
URL:https://www.ohiocity.org/events/ohio-city-food-truck-festival-2/
LOCATION:Frank Novak Park\, 1900 W 38th St\, Cleveland\, OH\, 44113\, United States
CATEGORIES:Community Event,OCI Event,Partner Event,Special Event
END:VEVENT
END:VCALENDAR