BEGIN:VCALENDAR
VERSION:2.0
PRODID:-//Ohio City - ECPv6.15.20//NONSGML v1.0//EN
CALSCALE:GREGORIAN
METHOD:PUBLISH
X-WR-CALNAME:Ohio City
X-ORIGINAL-URL:https://www.ohiocity.org
X-WR-CALDESC:Events for Ohio City
REFRESH-INTERVAL;VALUE=DURATION:PT1H
X-Robots-Tag:noindex
X-PUBLISHED-TTL:PT1H
BEGIN:VTIMEZONE
TZID:UTC
BEGIN:STANDARD
TZOFFSETFROM:+0000
TZOFFSETTO:+0000
TZNAME:UTC
DTSTART:20240101T000000
END:STANDARD
END:VTIMEZONE
BEGIN:VEVENT
DTSTART;TZID=UTC:20250123T173000
DTEND;TZID=UTC:20250123T200000
DTSTAMP:20260424T022648
CREATED:20250108T205954Z
LAST-MODIFIED:20250108T205954Z
UID:10000835-1737653400-1737662400@www.ohiocity.org
SUMMARY:Ohio City Strategic Plan Workshop
DESCRIPTION:We value your voice in shaping the future of Ohio City! As a local nonprofit\, your insights are critical in guiding our neighborhood’s growth and ensuring it remains vibrant\, inclusive\, and thriving for all. \nTake the Ohio City Strategic Plan Survey\nWe invite you to participate in our Ohio City Strategic Plan Survey and share it with friends\, coworkers\, clients\, and family. This quick\, 10-minute survey is your chance to share your thoughts on the neighborhood’s needs\, priorities\, and opportunities. \nWhy Participate? \n\nYour input will directly inform our strategic plan\, shaping the future of Ohio City.\nAs a thank-you\, survey participants will be entered into a drawing for exciting prizes from local businesses!\n\nTake the Survey Now! \nIf you prefer a print copy of the survey\, we’ve got you covered! Feel free to distribute physical copies to clients or community members. Contact Julia or us to request printed versions\, and we’ll be happy to assist. \nJoin Our Community Meeting\nWe’re also hosting an interactive community meeting to discuss key themes from the survey and gather additional feedback through collaborative activities. \n📅 Event Details \n\nDate: Tuesday\, January 23\, 2025\nLocation: Urban Community School\, Multi-purpose Room\, 4909 Lorain Avenue\, Cleveland\, OH\nDoors Open: 5:30 PM | Program Starts: 6:00 PM\n\nRSVP Here! \nThis meeting is a unique opportunity to: \n\nConnect with other community members and stakeholders.\nShare your experiences and ideas.\nContribute to the vision for Ohio City’s future.\n\nYour Voice Matters\nYour feedback is crucial in helping us address challenges\, seize opportunities\, and create strategies that benefit everyone who lives\, works\, and visits Ohio City. \nTogether\, we can build a stronger\, more vibrant community. We look forward to hearing from you and seeing you on January 23rd!
URL:https://www.ohiocity.org/events/ohio-city-strategic-plan-workshop/
LOCATION:urban community school\, 4909 Lorain Ave\, Cleveland\, OH\, 44101\, United States
CATEGORIES:Community Meeting/Forum,OCI Event
ORGANIZER;CN="Ohio City Inc.":MAILTO:info@ohiocity.org
END:VEVENT
END:VCALENDAR