BEGIN:VCALENDAR
VERSION:2.0
PRODID:-//Ohio City - ECPv6.15.20//NONSGML v1.0//EN
CALSCALE:GREGORIAN
METHOD:PUBLISH
X-WR-CALNAME:Ohio City
X-ORIGINAL-URL:https://www.ohiocity.org
X-WR-CALDESC:Events for Ohio City
REFRESH-INTERVAL;VALUE=DURATION:PT1H
X-Robots-Tag:noindex
X-PUBLISHED-TTL:PT1H
BEGIN:VTIMEZONE
TZID:UTC
BEGIN:STANDARD
TZOFFSETFROM:+0000
TZOFFSETTO:+0000
TZNAME:UTC
DTSTART:20240101T000000
END:STANDARD
END:VTIMEZONE
BEGIN:VEVENT
DTSTART;TZID=UTC:20251004T150000
DTEND;TZID=UTC:20251004T200000
DTSTAMP:20260422T121152
CREATED:20250611T202642Z
LAST-MODIFIED:20251104T191920Z
UID:10000960-1759590000-1759608000@www.ohiocity.org
SUMMARY:The Ohio City Oktoberfest
DESCRIPTION:The Ohio City Oktoberfest 🍂🍻 \nMark your calendars and join us on Saturday\, October 4th\, from 3–8 p.m. at Market Square Park for an afternoon packed with crisp brews\, delicious local eats\, fun family-friendly games\, and live music that will keep you dancing. It’s the perfect excuse to throw on your lederhosen and dirndls\, grab your friends\, and enjoy those cozy autumn vibes in the heart of Ohio City. \nWe will have an awesome lineup of local breweries on tap\, food vendors serving German and Bavarian eats\, and plenty of live entertainment to keep the energy going all afternoon long. Whether you’re a beer lover\, foodie\, or just here for the good vibes\, there’s something for everyone. \nWant to get involved?\nWe are currently looking for vendors\, sponsors\, and volunteers to help make this event unforgettable. If you’re interested\, additional information can be found below or by emailing Contact@ohiocity.org \nInterested in volunteering? Click Here \nOktoberfest Vendor Page 2025 \nClick here for vendor application \nOKTOBERFEST 2025 VENDOR POLICIES & PROCEDURES
URL:https://www.ohiocity.org/events/the-ohio-city-oktoberfest/
LOCATION:Market Square Park\, Market Ave\, Cleveland\, OH\, 44113\, United States
CATEGORIES:Community Event,OCI Event,Special Event
ORGANIZER;CN="Ohio City Inc.":MAILTO:info@ohiocity.org
END:VEVENT
END:VCALENDAR