BEGIN:VCALENDAR
VERSION:2.0
PRODID:-//Ohio City - ECPv6.15.20//NONSGML v1.0//EN
CALSCALE:GREGORIAN
METHOD:PUBLISH
X-ORIGINAL-URL:https://www.ohiocity.org
X-WR-CALDESC:Events for Ohio City
REFRESH-INTERVAL;VALUE=DURATION:PT1H
X-Robots-Tag:noindex
X-PUBLISHED-TTL:PT1H
BEGIN:VTIMEZONE
TZID:UTC
BEGIN:STANDARD
TZOFFSETFROM:+0000
TZOFFSETTO:+0000
TZNAME:UTC
DTSTART:20250101T000000
END:STANDARD
END:VTIMEZONE
BEGIN:VEVENT
DTSTART;TZID=UTC:20260519T180000
DTEND;TZID=UTC:20260519T190000
DTSTAMP:20260424T113613
CREATED:20260422T163831Z
LAST-MODIFIED:20260422T163832Z
UID:10001014-1779213600-1779217200@www.ohiocity.org
SUMMARY:May Community Meeting
DESCRIPTION:Join us for the May Community Meeting\, held in the Gabor Conference Room in DiSanto Hall at St. Ignatius High School.\nWe will be hosting Councilman Austin Davis to discuss community news and safety updates\, as well as team members from the West Side Market to talk about project progress and upcoming plans.\nFood and beverages will be provided. Bring your friends and neighbors!
URL:https://www.ohiocity.org/events/may-community-meeting/
LOCATION:Gabor Conference Room | DiSanto Hall\, 1911 W. 30th St.\, Cleveland\, OH\, 44113\, United States
CATEGORIES:Community Event,Community Meeting/Forum,OCI Event
ATTACH;FMTTYPE=image/png:https://www.ohiocity.org/wp-content/uploads/2026/04/May-Community-Meeting-2026_1@3x.png
END:VEVENT
END:VCALENDAR