BEGIN:VCALENDAR
VERSION:2.0
PRODID:-//Ohio City - ECPv6.15.20//NONSGML v1.0//EN
CALSCALE:GREGORIAN
METHOD:PUBLISH
X-WR-CALNAME:Ohio City
X-ORIGINAL-URL:https://www.ohiocity.org
X-WR-CALDESC:Events for Ohio City
REFRESH-INTERVAL;VALUE=DURATION:PT1H
X-Robots-Tag:noindex
X-PUBLISHED-TTL:PT1H
BEGIN:VTIMEZONE
TZID:UTC
BEGIN:STANDARD
TZOFFSETFROM:+0000
TZOFFSETTO:+0000
TZNAME:UTC
DTSTART:20290101T000000
END:STANDARD
END:VTIMEZONE
BEGIN:VEVENT
DTSTART;TZID=UTC:20300508T190000
DTEND;TZID=UTC:20300508T200000
DTSTAMP:20260423T144153
CREATED:20250204T172241Z
LAST-MODIFIED:20260421T140557Z
UID:10001002-1904497200-1904500800@www.ohiocity.org
SUMMARY:Bridge/Carroll/Jay Block Club Meeting
DESCRIPTION:Monthly Bridge/Carroll/Jay Block Club meeting. Takes place the second Wednesday of each month from 7pm to 8pm at the Wine Bar on Market Ave. For more information on the neighborhood or how to get involved\, please signup for the Block Club’s emailer by clicking here
URL:https://www.ohiocity.org/events/bridge-carrol-jay-block-club-meeting/2030-05-08/
LOCATION:wine bar\, 2521 Market Ave\, Cleveland\, OH\, 44113\, United States
END:VEVENT
BEGIN:VEVENT
DTSTART;TZID=UTC:20300612T190000
DTEND;TZID=UTC:20300612T200000
DTSTAMP:20260423T144153
CREATED:20250204T172241Z
LAST-MODIFIED:20260421T140557Z
UID:10001003-1907521200-1907524800@www.ohiocity.org
SUMMARY:Bridge/Carroll/Jay Block Club Meeting
DESCRIPTION:Monthly Bridge/Carroll/Jay Block Club meeting. Takes place the second Wednesday of each month from 7pm to 8pm at the Wine Bar on Market Ave. For more information on the neighborhood or how to get involved\, please signup for the Block Club’s emailer by clicking here
URL:https://www.ohiocity.org/events/bridge-carrol-jay-block-club-meeting/2030-06-12/
LOCATION:wine bar\, 2521 Market Ave\, Cleveland\, OH\, 44113\, United States
END:VEVENT
BEGIN:VEVENT
DTSTART;TZID=UTC:20300710T190000
DTEND;TZID=UTC:20300710T200000
DTSTAMP:20260423T144153
CREATED:20250204T172241Z
LAST-MODIFIED:20260421T140557Z
UID:10001004-1909940400-1909944000@www.ohiocity.org
SUMMARY:Bridge/Carroll/Jay Block Club Meeting
DESCRIPTION:Monthly Bridge/Carroll/Jay Block Club meeting. Takes place the second Wednesday of each month from 7pm to 8pm at the Wine Bar on Market Ave. For more information on the neighborhood or how to get involved\, please signup for the Block Club’s emailer by clicking here
URL:https://www.ohiocity.org/events/bridge-carrol-jay-block-club-meeting/2030-07-10/
LOCATION:wine bar\, 2521 Market Ave\, Cleveland\, OH\, 44113\, United States
END:VEVENT
BEGIN:VEVENT
DTSTART;TZID=UTC:20300814T190000
DTEND;TZID=UTC:20300814T200000
DTSTAMP:20260423T144153
CREATED:20250204T172241Z
LAST-MODIFIED:20260421T140557Z
UID:10001005-1912964400-1912968000@www.ohiocity.org
SUMMARY:Bridge/Carroll/Jay Block Club Meeting
DESCRIPTION:Monthly Bridge/Carroll/Jay Block Club meeting. Takes place the second Wednesday of each month from 7pm to 8pm at the Wine Bar on Market Ave. For more information on the neighborhood or how to get involved\, please signup for the Block Club’s emailer by clicking here
URL:https://www.ohiocity.org/events/bridge-carrol-jay-block-club-meeting/2030-08-14/
LOCATION:wine bar\, 2521 Market Ave\, Cleveland\, OH\, 44113\, United States
END:VEVENT
BEGIN:VEVENT
DTSTART;TZID=UTC:20300911T190000
DTEND;TZID=UTC:20300911T200000
DTSTAMP:20260423T144153
CREATED:20250204T172241Z
LAST-MODIFIED:20260421T140557Z
UID:10001006-1915383600-1915387200@www.ohiocity.org
SUMMARY:Bridge/Carroll/Jay Block Club Meeting
DESCRIPTION:Monthly Bridge/Carroll/Jay Block Club meeting. Takes place the second Wednesday of each month from 7pm to 8pm at the Wine Bar on Market Ave. For more information on the neighborhood or how to get involved\, please signup for the Block Club’s emailer by clicking here
URL:https://www.ohiocity.org/events/bridge-carrol-jay-block-club-meeting/2030-09-11/
LOCATION:wine bar\, 2521 Market Ave\, Cleveland\, OH\, 44113\, United States
END:VEVENT
BEGIN:VEVENT
DTSTART;TZID=UTC:20301009T190000
DTEND;TZID=UTC:20301009T200000
DTSTAMP:20260423T144153
CREATED:20250204T172241Z
LAST-MODIFIED:20260421T140557Z
UID:10001007-1917802800-1917806400@www.ohiocity.org
SUMMARY:Bridge/Carroll/Jay Block Club Meeting
DESCRIPTION:Monthly Bridge/Carroll/Jay Block Club meeting. Takes place the second Wednesday of each month from 7pm to 8pm at the Wine Bar on Market Ave. For more information on the neighborhood or how to get involved\, please signup for the Block Club’s emailer by clicking here
URL:https://www.ohiocity.org/events/bridge-carrol-jay-block-club-meeting/2030-10-09/
LOCATION:wine bar\, 2521 Market Ave\, Cleveland\, OH\, 44113\, United States
END:VEVENT
BEGIN:VEVENT
DTSTART;TZID=UTC:20301113T190000
DTEND;TZID=UTC:20301113T200000
DTSTAMP:20260423T144153
CREATED:20250204T172241Z
LAST-MODIFIED:20260421T140557Z
UID:10001008-1920826800-1920830400@www.ohiocity.org
SUMMARY:Bridge/Carroll/Jay Block Club Meeting
DESCRIPTION:Monthly Bridge/Carroll/Jay Block Club meeting. Takes place the second Wednesday of each month from 7pm to 8pm at the Wine Bar on Market Ave. For more information on the neighborhood or how to get involved\, please signup for the Block Club’s emailer by clicking here
URL:https://www.ohiocity.org/events/bridge-carrol-jay-block-club-meeting/2030-11-13/
LOCATION:wine bar\, 2521 Market Ave\, Cleveland\, OH\, 44113\, United States
END:VEVENT
BEGIN:VEVENT
DTSTART;TZID=UTC:20301211T190000
DTEND;TZID=UTC:20301211T200000
DTSTAMP:20260423T144153
CREATED:20250204T172241Z
LAST-MODIFIED:20260421T140557Z
UID:10001009-1923246000-1923249600@www.ohiocity.org
SUMMARY:Bridge/Carroll/Jay Block Club Meeting
DESCRIPTION:Monthly Bridge/Carroll/Jay Block Club meeting. Takes place the second Wednesday of each month from 7pm to 8pm at the Wine Bar on Market Ave. For more information on the neighborhood or how to get involved\, please signup for the Block Club’s emailer by clicking here
URL:https://www.ohiocity.org/events/bridge-carrol-jay-block-club-meeting/2030-12-11/
LOCATION:wine bar\, 2521 Market Ave\, Cleveland\, OH\, 44113\, United States
END:VEVENT
BEGIN:VEVENT
DTSTART;TZID=UTC:20310108T190000
DTEND;TZID=UTC:20310108T200000
DTSTAMP:20260423T144153
CREATED:20250204T172241Z
LAST-MODIFIED:20260421T140557Z
UID:10001010-1925665200-1925668800@www.ohiocity.org
SUMMARY:Bridge/Carroll/Jay Block Club Meeting
DESCRIPTION:Monthly Bridge/Carroll/Jay Block Club meeting. Takes place the second Wednesday of each month from 7pm to 8pm at the Wine Bar on Market Ave. For more information on the neighborhood or how to get involved\, please signup for the Block Club’s emailer by clicking here
URL:https://www.ohiocity.org/events/bridge-carrol-jay-block-club-meeting/2031-01-08/
LOCATION:wine bar\, 2521 Market Ave\, Cleveland\, OH\, 44113\, United States
END:VEVENT
BEGIN:VEVENT
DTSTART;TZID=UTC:20310212T190000
DTEND;TZID=UTC:20310212T200000
DTSTAMP:20260423T144153
CREATED:20250204T172241Z
LAST-MODIFIED:20260421T140557Z
UID:10001011-1928689200-1928692800@www.ohiocity.org
SUMMARY:Bridge/Carroll/Jay Block Club Meeting
DESCRIPTION:Monthly Bridge/Carroll/Jay Block Club meeting. Takes place the second Wednesday of each month from 7pm to 8pm at the Wine Bar on Market Ave. For more information on the neighborhood or how to get involved\, please signup for the Block Club’s emailer by clicking here
URL:https://www.ohiocity.org/events/bridge-carrol-jay-block-club-meeting/2031-02-12/
LOCATION:wine bar\, 2521 Market Ave\, Cleveland\, OH\, 44113\, United States
END:VEVENT
BEGIN:VEVENT
DTSTART;TZID=UTC:20310312T190000
DTEND;TZID=UTC:20310312T200000
DTSTAMP:20260423T144153
CREATED:20250204T172241Z
LAST-MODIFIED:20260421T140557Z
UID:10001012-1931108400-1931112000@www.ohiocity.org
SUMMARY:Bridge/Carroll/Jay Block Club Meeting
DESCRIPTION:Monthly Bridge/Carroll/Jay Block Club meeting. Takes place the second Wednesday of each month from 7pm to 8pm at the Wine Bar on Market Ave. For more information on the neighborhood or how to get involved\, please signup for the Block Club’s emailer by clicking here
URL:https://www.ohiocity.org/events/bridge-carrol-jay-block-club-meeting/2031-03-12/
LOCATION:wine bar\, 2521 Market Ave\, Cleveland\, OH\, 44113\, United States
END:VEVENT
BEGIN:VEVENT
DTSTART;TZID=UTC:20310409T190000
DTEND;TZID=UTC:20310409T200000
DTSTAMP:20260423T144153
CREATED:20250204T172241Z
LAST-MODIFIED:20260421T140557Z
UID:10001013-1933527600-1933531200@www.ohiocity.org
SUMMARY:Bridge/Carroll/Jay Block Club Meeting
DESCRIPTION:Monthly Bridge/Carroll/Jay Block Club meeting. Takes place the second Wednesday of each month from 7pm to 8pm at the Wine Bar on Market Ave. For more information on the neighborhood or how to get involved\, please signup for the Block Club’s emailer by clicking here
URL:https://www.ohiocity.org/events/bridge-carrol-jay-block-club-meeting/2031-04-09/
LOCATION:wine bar\, 2521 Market Ave\, Cleveland\, OH\, 44113\, United States
END:VEVENT
END:VCALENDAR